BEGIN:VCALENDAR
VERSION:2.0
PRODID:-//Amador-Calaveras Consensus Group - ECPv6.15.20//NONSGML v1.0//EN
CALSCALE:GREGORIAN
METHOD:PUBLISH
X-WR-CALNAME:Amador-Calaveras Consensus Group
X-ORIGINAL-URL:https://acconsensus.org
X-WR-CALDESC:Events for Amador-Calaveras Consensus Group
REFRESH-INTERVAL;VALUE=DURATION:PT1H
X-Robots-Tag:noindex
X-PUBLISHED-TTL:PT1H
BEGIN:VTIMEZONE
TZID:America/Los_Angeles
BEGIN:DAYLIGHT
TZOFFSETFROM:-0800
TZOFFSETTO:-0700
TZNAME:PDT
DTSTART:20250309T100000
END:DAYLIGHT
BEGIN:STANDARD
TZOFFSETFROM:-0700
TZOFFSETTO:-0800
TZNAME:PST
DTSTART:20251102T090000
END:STANDARD
BEGIN:DAYLIGHT
TZOFFSETFROM:-0800
TZOFFSETTO:-0700
TZNAME:PDT
DTSTART:20260308T100000
END:DAYLIGHT
BEGIN:STANDARD
TZOFFSETFROM:-0700
TZOFFSETTO:-0800
TZNAME:PST
DTSTART:20261101T090000
END:STANDARD
BEGIN:DAYLIGHT
TZOFFSETFROM:-0800
TZOFFSETTO:-0700
TZNAME:PDT
DTSTART:20270314T100000
END:DAYLIGHT
BEGIN:STANDARD
TZOFFSETFROM:-0700
TZOFFSETTO:-0800
TZNAME:PST
DTSTART:20271107T090000
END:STANDARD
END:VTIMEZONE
BEGIN:VEVENT
DTSTART;TZID=America/Los_Angeles:20260218T090000
DTEND;TZID=America/Los_Angeles:20260218T120000
DTSTAMP:20260423T170610
CREATED:20260122T230800Z
LAST-MODIFIED:20260122T231102Z
UID:15559-1771405200-1771416000@acconsensus.org
SUMMARY:ACCG General Meeting (Hybrid)
DESCRIPTION:See the ACCG General Meeting webpage via the Meetings & Materials page for more information: https://acconsensus.org/agendas-minutes/
URL:https://acconsensus.org/event/accg-general-meeting-4/
CATEGORIES:ACCG Events
END:VEVENT
BEGIN:VEVENT
DTSTART;TZID=America/Los_Angeles:20260225T090000
DTEND;TZID=America/Los_Angeles:20260225T120000
DTSTAMP:20260423T170610
CREATED:20260122T230843Z
LAST-MODIFIED:20260122T230843Z
UID:15561-1772010000-1772020800@acconsensus.org
SUMMARY:ACCG Planning Work Group Meeting (Zoom)
DESCRIPTION:See the ACCG Planning Work Group meeting webpage via the Meetings & Materials page for more information: https://acconsensus.org/agendas-minutes/
URL:https://acconsensus.org/event/accg-planning-work-group-meeting-zoom-3/
CATEGORIES:ACCG Events
END:VEVENT
BEGIN:VEVENT
DTSTART;TZID=America/Los_Angeles:20260311T090000
DTEND;TZID=America/Los_Angeles:20260311T110000
DTSTAMP:20260423T170610
CREATED:20260122T231000Z
LAST-MODIFIED:20260122T231000Z
UID:15563-1773219600-1773226800@acconsensus.org
SUMMARY:ACCG Monitoring Work Group Meeting (Teams)
DESCRIPTION:Go to the Monitoring work group meeting page via the Meetings & Materials page for more information: https://acconsensus.org/agendas-minutes/
URL:https://acconsensus.org/event/accg-monitoring-work-group-meeting-teams-4/
CATEGORIES:ACCG Events
END:VEVENT
BEGIN:VEVENT
DTSTART;TZID=America/Los_Angeles:20260318T090000
DTEND;TZID=America/Los_Angeles:20260318T120000
DTSTAMP:20260423T170610
CREATED:20260122T231305Z
LAST-MODIFIED:20260122T231305Z
UID:15569-1773824400-1773835200@acconsensus.org
SUMMARY:ACCG General Meeting (Hybrid)
DESCRIPTION:See the ACCG General Meeting webpage via the Meetings & Materials page for more information: https://acconsensus.org/agendas-minutes/
URL:https://acconsensus.org/event/accg-general-meeting-hybrid/
CATEGORIES:ACCG Events
END:VEVENT
BEGIN:VEVENT
DTSTART;TZID=America/Los_Angeles:20260325T090000
DTEND;TZID=America/Los_Angeles:20260325T120000
DTSTAMP:20260423T170610
CREATED:20260122T231413Z
LAST-MODIFIED:20260122T231413Z
UID:15571-1774429200-1774440000@acconsensus.org
SUMMARY:ACCG Planning Work Group Meeting (Zoom)
DESCRIPTION:See the ACCG Planning Work Group meeting webpage via the Meetings & Materials page for more information: https://acconsensus.org/agendas-minutes/
URL:https://acconsensus.org/event/accg-planning-work-group-meeting-zoom-4/
CATEGORIES:ACCG Events
END:VEVENT
BEGIN:VEVENT
DTSTART;TZID=America/Los_Angeles:20260408T090000
DTEND;TZID=America/Los_Angeles:20260408T110000
DTSTAMP:20260423T170610
CREATED:20260122T231538Z
LAST-MODIFIED:20260122T231538Z
UID:15573-1775638800-1775646000@acconsensus.org
SUMMARY:ACCG Monitoring Work Group Meeting (Teams)
DESCRIPTION:Go to the Monitoring work group meeting page via the Meetings & Materials page for more information: https://acconsensus.org/agendas-minutes/
URL:https://acconsensus.org/event/accg-monitoring-work-group-meeting-teams-5/
CATEGORIES:ACCG Events
END:VEVENT
BEGIN:VEVENT
DTSTART;TZID=America/Los_Angeles:20260415T090000
DTEND;TZID=America/Los_Angeles:20260415T120000
DTSTAMP:20260423T170610
CREATED:20260122T231752Z
LAST-MODIFIED:20260122T231752Z
UID:15575-1776243600-1776254400@acconsensus.org
SUMMARY:ACCG General Meeting (Hybrid)
DESCRIPTION:See the ACCG General Meeting webpage via the Meetings & Materials page for more information: https://acconsensus.org/agendas-minutes/
URL:https://acconsensus.org/event/accg-general-meeting-hybrid-2/
CATEGORIES:ACCG Events
END:VEVENT
BEGIN:VEVENT
DTSTART;TZID=America/Los_Angeles:20260422T090000
DTEND;TZID=America/Los_Angeles:20260422T120000
DTSTAMP:20260423T170610
CREATED:20260122T231849Z
LAST-MODIFIED:20260122T231849Z
UID:15577-1776848400-1776859200@acconsensus.org
SUMMARY:ACCG Planning Work Group Meeting (Zoom)
DESCRIPTION:See the ACCG Planning Work Group meeting webpage via the Meetings & Materials page for more information: https://acconsensus.org/agendas-minutes/
URL:https://acconsensus.org/event/accg-planning-work-group-meeting-zoom-5/
CATEGORIES:ACCG Events
END:VEVENT
BEGIN:VEVENT
DTSTART;TZID=America/Los_Angeles:20260513T090000
DTEND;TZID=America/Los_Angeles:20260513T110000
DTSTAMP:20260423T170610
CREATED:20260122T232920Z
LAST-MODIFIED:20260122T232920Z
UID:15579-1778662800-1778670000@acconsensus.org
SUMMARY:ACCG Monitoring Work Group Meeting (Teams)
DESCRIPTION:Go to the Monitoring work group meeting page via the Meetings & Materials page for more information: https://acconsensus.org/agendas-minutes/
URL:https://acconsensus.org/event/accg-monitoring-work-group-meeting-teams-6/
CATEGORIES:ACCG Events
END:VEVENT
BEGIN:VEVENT
DTSTART;TZID=America/Los_Angeles:20260520T090000
DTEND;TZID=America/Los_Angeles:20260520T120000
DTSTAMP:20260423T170610
CREATED:20260123T004133Z
LAST-MODIFIED:20260123T004133Z
UID:15581-1779267600-1779278400@acconsensus.org
SUMMARY:ACCG General Meeting (Hybrid)
DESCRIPTION:See the ACCG General Meeting webpage via the Meetings & Materials page for more information: https://acconsensus.org/agendas-minutes/
URL:https://acconsensus.org/event/accg-general-meeting-hybrid-3/
CATEGORIES:ACCG Events
END:VEVENT
BEGIN:VEVENT
DTSTART;TZID=America/Los_Angeles:20260528T090000
DTEND;TZID=America/Los_Angeles:20260528T120000
DTSTAMP:20260423T170610
CREATED:20260123T004226Z
LAST-MODIFIED:20260123T004226Z
UID:15583-1779958800-1779969600@acconsensus.org
SUMMARY:ACCG Planning Work Group Meeting (Zoom)
DESCRIPTION:See the ACCG Planning Work Group meeting webpage via the Meetings & Materials page for more information: https://acconsensus.org/agendas-minutes/
URL:https://acconsensus.org/event/accg-planning-work-group-meeting-zoom-6/
CATEGORIES:ACCG Events
END:VEVENT
BEGIN:VEVENT
DTSTART;TZID=America/Los_Angeles:20260611T090000
DTEND;TZID=America/Los_Angeles:20260611T110000
DTSTAMP:20260423T170610
CREATED:20260123T004306Z
LAST-MODIFIED:20260123T004306Z
UID:15585-1781168400-1781175600@acconsensus.org
SUMMARY:ACCG Monitoring Work Group Meeting (Teams)
DESCRIPTION:Go to the Monitoring work group meeting page via the Meetings & Materials page for more information: https://acconsensus.org/agendas-minutes/
URL:https://acconsensus.org/event/accg-monitoring-work-group-meeting-teams-7/
CATEGORIES:ACCG Events
END:VEVENT
BEGIN:VEVENT
DTSTART;TZID=America/Los_Angeles:20260618T090000
DTEND;TZID=America/Los_Angeles:20260618T120000
DTSTAMP:20260423T170610
CREATED:20260123T004355Z
LAST-MODIFIED:20260123T004355Z
UID:15587-1781773200-1781784000@acconsensus.org
SUMMARY:ACCG General Meeting (Hybrid)
DESCRIPTION:See the ACCG General Meeting webpage via the Meetings & Materials page for more information: https://acconsensus.org/agendas-minutes/
URL:https://acconsensus.org/event/accg-general-meeting-hybrid-4/
CATEGORIES:ACCG Events
END:VEVENT
BEGIN:VEVENT
DTSTART;TZID=America/Los_Angeles:20260625T090000
DTEND;TZID=America/Los_Angeles:20260625T120000
DTSTAMP:20260423T170610
CREATED:20260123T004439Z
LAST-MODIFIED:20260123T004439Z
UID:15589-1782378000-1782388800@acconsensus.org
SUMMARY:ACCG Planning Work Group Meeting (Zoom)
DESCRIPTION:See the ACCG Planning Work Group meeting webpage via the Meetings & Materials page for more information: https://acconsensus.org/agendas-minutes/
URL:https://acconsensus.org/event/accg-planning-work-group-meeting-zoom-7/
CATEGORIES:ACCG Events
END:VEVENT
BEGIN:VEVENT
DTSTART;TZID=America/Los_Angeles:20260709T090000
DTEND;TZID=America/Los_Angeles:20260709T110000
DTSTAMP:20260423T170610
CREATED:20260123T004525Z
LAST-MODIFIED:20260123T004525Z
UID:15591-1783587600-1783594800@acconsensus.org
SUMMARY:ACCG Monitoring Work Group Meeting (Teams)
DESCRIPTION:Go to the Monitoring work group meeting page via the Meetings & Materials page for more information: https://acconsensus.org/agendas-minutes/
URL:https://acconsensus.org/event/accg-monitoring-work-group-meeting-teams-8/
CATEGORIES:ACCG Events
END:VEVENT
BEGIN:VEVENT
DTSTART;TZID=America/Los_Angeles:20260716T090000
DTEND;TZID=America/Los_Angeles:20260716T120000
DTSTAMP:20260423T170610
CREATED:20260123T004614Z
LAST-MODIFIED:20260123T004614Z
UID:15593-1784192400-1784203200@acconsensus.org
SUMMARY:ACCG General Meeting (Hybrid)
DESCRIPTION:See the ACCG General Meeting webpage via the Meetings & Materials page for more information: https://acconsensus.org/agendas-minutes/
URL:https://acconsensus.org/event/accg-general-meeting-hybrid-5/
CATEGORIES:ACCG Events
END:VEVENT
BEGIN:VEVENT
DTSTART;TZID=America/Los_Angeles:20260723T090000
DTEND;TZID=America/Los_Angeles:20260723T120000
DTSTAMP:20260423T170610
CREATED:20260123T004707Z
LAST-MODIFIED:20260123T004707Z
UID:15595-1784797200-1784808000@acconsensus.org
SUMMARY:ACCG Planning Work Group Meeting (Zoom)
DESCRIPTION:See the ACCG Planning Work Group meeting webpage via the Meetings & Materials page for more information: https://acconsensus.org/agendas-minutes/
URL:https://acconsensus.org/event/accg-planning-work-group-meeting-zoom-8/
CATEGORIES:ACCG Events
END:VEVENT
BEGIN:VEVENT
DTSTART;TZID=America/Los_Angeles:20260813T090000
DTEND;TZID=America/Los_Angeles:20260813T110000
DTSTAMP:20260423T170610
CREATED:20260123T004915Z
LAST-MODIFIED:20260123T004915Z
UID:15597-1786611600-1786618800@acconsensus.org
SUMMARY:ACCG Monitoring Work Group Meeting (Teams)
DESCRIPTION:Go to the Monitoring work group meeting page via the Meetings & Materials page for more information: https://acconsensus.org/agendas-minutes/
URL:https://acconsensus.org/event/accg-monitoring-work-group-meeting-teams-9/
CATEGORIES:ACCG Events
END:VEVENT
BEGIN:VEVENT
DTSTART;TZID=America/Los_Angeles:20260820T090000
DTEND;TZID=America/Los_Angeles:20260820T120000
DTSTAMP:20260423T170610
CREATED:20260123T004959Z
LAST-MODIFIED:20260123T004959Z
UID:15599-1787216400-1787227200@acconsensus.org
SUMMARY:ACCG General Meeting (Hybrid)
DESCRIPTION:See the ACCG General Meeting webpage via the Meetings & Materials page for more information: https://acconsensus.org/agendas-minutes/
URL:https://acconsensus.org/event/accg-general-meeting-hybrid-6/
CATEGORIES:ACCG Events
END:VEVENT
BEGIN:VEVENT
DTSTART;TZID=America/Los_Angeles:20260827T090000
DTEND;TZID=America/Los_Angeles:20260827T120000
DTSTAMP:20260423T170610
CREATED:20260123T005043Z
LAST-MODIFIED:20260123T005043Z
UID:15601-1787821200-1787832000@acconsensus.org
SUMMARY:ACCG Planning Work Group Meeting (Zoom)
DESCRIPTION:See the ACCG Planning Work Group meeting webpage via the Meetings & Materials page for more information: https://acconsensus.org/agendas-minutes/
URL:https://acconsensus.org/event/accg-planning-work-group-meeting-zoom-9/
CATEGORIES:ACCG Events
END:VEVENT
BEGIN:VEVENT
DTSTART;TZID=America/Los_Angeles:20260910T090000
DTEND;TZID=America/Los_Angeles:20260910T110000
DTSTAMP:20260423T170610
CREATED:20260123T005127Z
LAST-MODIFIED:20260123T005127Z
UID:15603-1789030800-1789038000@acconsensus.org
SUMMARY:ACCG Monitoring Work Group Meeting (Teams)
DESCRIPTION:Go to the Monitoring work group meeting page via the Meetings & Materials page for more information: https://acconsensus.org/agendas-minutes/
URL:https://acconsensus.org/event/accg-monitoring-work-group-meeting-teams-10/
CATEGORIES:ACCG Events
END:VEVENT
BEGIN:VEVENT
DTSTART;TZID=America/Los_Angeles:20260917T090000
DTEND;TZID=America/Los_Angeles:20260917T120000
DTSTAMP:20260423T170610
CREATED:20260123T005220Z
LAST-MODIFIED:20260123T005220Z
UID:15605-1789635600-1789646400@acconsensus.org
SUMMARY:ACCG General Meeting (Hybrid)
DESCRIPTION:See the ACCG General Meeting webpage via the Meetings & Materials page for more information: https://acconsensus.org/agendas-minutes/
URL:https://acconsensus.org/event/accg-general-meeting-hybrid-7/
CATEGORIES:ACCG Events
END:VEVENT
BEGIN:VEVENT
DTSTART;TZID=America/Los_Angeles:20260924T090000
DTEND;TZID=America/Los_Angeles:20260924T120000
DTSTAMP:20260423T170610
CREATED:20260123T005256Z
LAST-MODIFIED:20260123T005256Z
UID:15607-1790240400-1790251200@acconsensus.org
SUMMARY:ACCG Planning Work Group Meeting (Zoom)
DESCRIPTION:See the ACCG Planning Work Group meeting webpage via the Meetings & Materials page for more information: https://acconsensus.org/agendas-minutes/
URL:https://acconsensus.org/event/accg-planning-work-group-meeting-zoom-10/
CATEGORIES:ACCG Events
END:VEVENT
BEGIN:VEVENT
DTSTART;TZID=America/Los_Angeles:20261008T090000
DTEND;TZID=America/Los_Angeles:20261008T110000
DTSTAMP:20260423T170610
CREATED:20260123T005402Z
LAST-MODIFIED:20260123T005402Z
UID:15609-1791450000-1791457200@acconsensus.org
SUMMARY:ACCG Monitoring Work Group Meeting (Teams)
DESCRIPTION:Go to the Monitoring work group meeting page via the Meetings & Materials page for more information: https://acconsensus.org/agendas-minutes/
URL:https://acconsensus.org/event/accg-monitoring-work-group-meeting-teams-11/
CATEGORIES:ACCG Events
END:VEVENT
BEGIN:VEVENT
DTSTART;TZID=America/Los_Angeles:20261015T090000
DTEND;TZID=America/Los_Angeles:20261015T120000
DTSTAMP:20260423T170610
CREATED:20260123T005452Z
LAST-MODIFIED:20260123T005452Z
UID:15611-1792054800-1792065600@acconsensus.org
SUMMARY:ACCG General Meeting (Hybrid)
DESCRIPTION:See the ACCG General Meeting webpage via the Meetings & Materials page for more information: https://acconsensus.org/agendas-minutes/
URL:https://acconsensus.org/event/accg-general-meeting-hybrid-8/
CATEGORIES:ACCG Events
END:VEVENT
BEGIN:VEVENT
DTSTART;TZID=America/Los_Angeles:20261022T090000
DTEND;TZID=America/Los_Angeles:20261022T120000
DTSTAMP:20260423T170610
CREATED:20260123T005528Z
LAST-MODIFIED:20260123T005528Z
UID:15613-1792659600-1792670400@acconsensus.org
SUMMARY:ACCG Planning Work Group Meeting (Zoom)
DESCRIPTION:See the ACCG Planning Work Group meeting webpage via the Meetings & Materials page for more information: https://acconsensus.org/agendas-minutes/
URL:https://acconsensus.org/event/accg-planning-work-group-meeting-zoom-11/
CATEGORIES:ACCG Events
END:VEVENT
BEGIN:VEVENT
DTSTART;TZID=America/Los_Angeles:20261112T090000
DTEND;TZID=America/Los_Angeles:20261112T110000
DTSTAMP:20260423T170610
CREATED:20260123T005628Z
LAST-MODIFIED:20260123T005628Z
UID:15615-1794474000-1794481200@acconsensus.org
SUMMARY:ACCG Monitoring Work Group Meeting (Teams)
DESCRIPTION:Go to the Monitoring work group meeting page via the Meetings & Materials page for more information: https://acconsensus.org/agendas-minutes/
URL:https://acconsensus.org/event/accg-monitoring-work-group-meeting-teams-12/
CATEGORIES:ACCG Events
END:VEVENT
BEGIN:VEVENT
DTSTART;TZID=America/Los_Angeles:20261119T090000
DTEND;TZID=America/Los_Angeles:20261119T120000
DTSTAMP:20260423T170610
CREATED:20260123T005711Z
LAST-MODIFIED:20260123T005711Z
UID:15617-1795078800-1795089600@acconsensus.org
SUMMARY:ACCG General Meeting (Hybrid)
DESCRIPTION:See the ACCG General Meeting webpage via the Meetings & Materials page for more information: https://acconsensus.org/agendas-minutes/
URL:https://acconsensus.org/event/accg-general-meeting-hybrid-9/
CATEGORIES:ACCG Events
END:VEVENT
BEGIN:VEVENT
DTSTART;TZID=America/Los_Angeles:20261210T090000
DTEND;TZID=America/Los_Angeles:20261210T110000
DTSTAMP:20260423T170610
CREATED:20260123T010404Z
LAST-MODIFIED:20260123T010404Z
UID:15619-1796893200-1796900400@acconsensus.org
SUMMARY:ACCG Monitoring Work Group Meeting (Teams)
DESCRIPTION:Go to the Monitoring work group meeting page via the Meetings & Materials page for more information: https://acconsensus.org/agendas-minutes/
URL:https://acconsensus.org/event/accg-monitoring-work-group-meeting-teams-13/
CATEGORIES:ACCG Events
END:VEVENT
END:VCALENDAR